BEGIN:VCALENDAR
VERSION:2.0
PRODID:spatie/icalendar-generator
DESCRIPTION:Events from Immaculate Heart of Mary Catholic School
X-WR-CALDESC:Events from Immaculate Heart of Mary Catholic School
REFRESH-INTERVAL;VALUE=DURATION:PT1440M
X-PUBLISHED-TTL:PT1440M
BEGIN:VTIMEZONE
TZID:Etc/GMT-10
BEGIN:STANDARD
DTSTART:20250703T000000Z
TZOFFSETFROM:+1000
TZOFFSETTO:+1000
END:STANDARD
END:VTIMEZONE
BEGIN:VTIMEZONE
TZID:UTC
BEGIN:STANDARD
DTSTART:20250726T140411Z
TZOFFSETFROM:+0000
TZOFFSETTO:+0000
END:STANDARD
END:VTIMEZONE
BEGIN:VEVENT
UID:4954-1754
DTSTAMP:20260422T140411Z
SUMMARY:Grade 6 Camp
LOCATION:
ORGANIZER;CN=Grazia:MAILTO:grazia.parodi@catholic.tas.edu.au
DTSTART;TZID=Etc/GMT-10;VALUE=DATE:20260330
DTEND;TZID=Etc/GMT-10;VALUE=DATE:20260402
X-ALT-DESC;FMTTYPE=TEXT/HTML:
CATEGORIES:General
URL;VALUE=URI:https://ihms.tas.edu.au/mc-events/grade-6-camp-4/?mc_id=4954
END:VEVENT
BEGIN:VEVENT
UID:4954-1754
DTSTAMP:20260422T140411Z
SUMMARY:Grade 6 Camp
LOCATION:
ORGANIZER;CN=Grazia:MAILTO:grazia.parodi@catholic.tas.edu.au
DTSTART;TZID=Etc/GMT-10;VALUE=DATE:20260330
DTEND;TZID=Etc/GMT-10;VALUE=DATE:20260402
X-ALT-DESC;FMTTYPE=TEXT/HTML:
CATEGORIES:General
URL;VALUE=URI:https://ihms.tas.edu.au/mc-events/grade-6-camp-4/?mc_id=4954
END:VEVENT
BEGIN:VEVENT
UID:4954-1754
DTSTAMP:20260422T140411Z
SUMMARY:Grade 6 Camp
LOCATION:
ORGANIZER;CN=Grazia:MAILTO:grazia.parodi@catholic.tas.edu.au
DTSTART;TZID=Etc/GMT-10;VALUE=DATE:20260330
DTEND;TZID=Etc/GMT-10;VALUE=DATE:20260402
X-ALT-DESC;FMTTYPE=TEXT/HTML:
CATEGORIES:General
URL;VALUE=URI:https://ihms.tas.edu.au/mc-events/grade-6-camp-4/?mc_id=4954
END:VEVENT
END:VCALENDAR